Package: flowWorkspace
Version: 4.16.0
Command: /home/biocbuild/R/R-beta-2024-04-15_r86425/bin/R CMD check --install=check:flowWorkspace.install-out.txt --library=/home/biocbuild/R/R-beta-2024-04-15_r86425/site-library --no-vignettes --timings flowWorkspace_4.16.0.tar.gz
StartedAt: 2024-05-09 07:30:51 -0000 (Thu, 09 May 2024)
EndedAt: 2024-05-09 07:34:53 -0000 (Thu, 09 May 2024)
EllapsedTime: 241.5 seconds
RetCode: 0
Status: WARNINGS
CheckDir: flowWorkspace.Rcheck
Warnings: 5