Package: flowWorkspace Version: 4.16.0 Maintainer: Greg Finak , Mike Jiang MaintainerEmail: mike at ozette.com git_url: https://git.bioconductor.org/packages/flowWorkspace git_branch: RELEASE_3_19 git_last_commit: 7465730 git_last_commit_date: 2024-04-30 10:24:28 -0400 (Tue, 30 Apr 2024)