Package: flowViz
Version: 1.68.0
Maintainer: Mike Jiang
MaintainerEmail: mike at ozette.com
git_url: https://git.bioconductor.org/packages/flowViz
git_branch: RELEASE_3_19
git_last_commit: 00b0a22
git_last_commit_date: 2024-04-30 10:16:06 -0400 (Tue, 30 Apr 2024)