Package: flowPlots
Version: 1.52.0
Maintainer: N. Hawkins
MaintainerEmail: hawkins at fhcrc.org
git_url: https://git.bioconductor.org/packages/flowPlots
git_branch: RELEASE_3_19
git_last_commit: c3af73a
git_last_commit_date: 2024-04-30 10:23:53 -0400 (Tue, 30 Apr 2024)