Package: flowCut
Version: 1.14.0
Command: /home/biocbuild/R/R-beta-2024-04-15_r86425/bin/R CMD INSTALL flowCut
StartedAt: 2024-05-08 20:50:34 -0000 (Wed, 08 May 2024)
EndedAt: 2024-05-08 20:50:44 -0000 (Wed, 08 May 2024)
EllapsedTime: 10.5 seconds
RetCode: 0
Status: OK