Package: flowCut
Version: 1.14.0
Command: /home/biocbuild/R/R-beta-2024-04-15_r86425/bin/R CMD check --install=check:flowCut.install-out.txt --library=/home/biocbuild/R/R-beta-2024-04-15_r86425/site-library --no-vignettes --timings flowCut_1.14.0.tar.gz
StartedAt: 2024-05-09 07:28:50 -0000 (Thu, 09 May 2024)
EndedAt: 2024-05-09 07:30:37 -0000 (Thu, 09 May 2024)
EllapsedTime: 107.3 seconds
RetCode: 0
Status: OK
CheckDir: flowCut.Rcheck
Warnings: 0