Package: flowClust
Version: 3.42.0
Command: /home/biocbuild/bbs-3.19-bioc/R/bin/R CMD INSTALL flowClust
StartedAt: 2024-10-16 15:59:06 -0400 (Wed, 16 Oct 2024)
EndedAt: 2024-10-16 16:00:35 -0400 (Wed, 16 Oct 2024)
EllapsedTime: 89.0 seconds
RetCode: 0
Status: OK