Package: flowClust
Version: 3.42.0
Command: /Library/Frameworks/R.framework/Resources/bin/R CMD INSTALL flowClust
StartedAt: 2024-10-16 15:45:42 -0400 (Wed, 16 Oct 2024)
EndedAt: 2024-10-16 15:48:13 -0400 (Wed, 16 Oct 2024)
EllapsedTime: 151.0 seconds
RetCode: 0
Status: OK