Package: flowClust
Version: 3.42.0
Command: rm -rf flowClust.buildbin-libdir && mkdir flowClust.buildbin-libdir && /Users/biocbuild/BBS/utils/build-universal.sh flowClust_3.42.0.tar.gz /Library/Frameworks/R.framework/Resources/bin/R flowClust.buildbin-libdir
StartedAt: 2024-10-18 18:30:55 -0400 (Fri, 18 Oct 2024)
EndedAt: 2024-10-18 18:34:52 -0400 (Fri, 18 Oct 2024)
EllapsedTime: 237.3 seconds
RetCode: 0
Status: OK
PackageFile: flowClust_3.42.0.tgz
PackageFileSize: 1.356 <A href="http://en.wikipedia.org/wiki/MiB" target="_blank">MiB</A>