Package: flowClust Version: 3.42.0 Maintainer: Greg Finak , Mike Jiang MaintainerEmail: mike at ozette.ai git_url: https://git.bioconductor.org/packages/flowClust git_branch: RELEASE_3_19 git_last_commit: 00dc752 git_last_commit_date: 2024-04-30 10:17:51 -0400 (Tue, 30 Apr 2024)