Package: fishpond
Version: 2.10.0
Maintainer: Michael Love
MaintainerEmail: michaelisaiahlove at gmail.com
git_url: https://git.bioconductor.org/packages/fishpond
git_branch: RELEASE_3_19
git_last_commit: fbf9a95
git_last_commit_date: 2024-04-30 11:12:37 -0400 (Tue, 30 Apr 2024)