Package: findIPs
Version: 1.0.0
Maintainer: Shuo Wang
MaintainerEmail: wangsures at foxmail.com
git_url: https://git.bioconductor.org/packages/findIPs
git_branch: RELEASE_3_19
git_last_commit: d68f0c6
git_last_commit_date: 2024-04-30 11:56:32 -0400 (Tue, 30 Apr 2024)