Package: ffpe
Version: 1.48.0
Command: /home/biocbuild/bbs-3.19-bioc/R/bin/R CMD check --install=check:ffpe.install-out.txt --library=/home/biocbuild/bbs-3.19-bioc/R/site-library --timings ffpe_1.48.0.tar.gz
StartedAt: 2024-10-17 00:25:12 -0400 (Thu, 17 Oct 2024)
EndedAt: 2024-10-17 00:31:06 -0400 (Thu, 17 Oct 2024)
EllapsedTime: 354.9 seconds
RetCode: 0
Status: OK
CheckDir: ffpe.Rcheck
Warnings: 0