Package: ffpe
Version: 1.48.0
Command: /Library/Frameworks/R.framework/Resources/bin/R CMD build --keep-empty-dirs --no-resave-data ffpe
StartedAt: 2024-10-17 00:25:08 -0400 (Thu, 17 Oct 2024)
EndedAt: 2024-10-17 00:26:44 -0400 (Thu, 17 Oct 2024)
EllapsedTime: 96.0 seconds
RetCode: 0
Status: OK
PackageFile: ffpe_1.48.0.tar.gz
PackageFileSize: 267.9 <A href="http://en.wikipedia.org/wiki/KiB" target="_blank">KiB</A>