Package: ffpe
Version: 1.48.0
Command: rm -rf ffpe.buildbin-libdir && mkdir ffpe.buildbin-libdir && /Users/biocbuild/BBS/utils/build-universal.sh ffpe_1.48.0.tar.gz /Library/Frameworks/R.framework/Resources/bin/R ffpe.buildbin-libdir
StartedAt: 2024-10-18 18:29:28 -0400 (Fri, 18 Oct 2024)
EndedAt: 2024-10-18 18:30:39 -0400 (Fri, 18 Oct 2024)
EllapsedTime: 70.8 seconds
RetCode: 0
Status: OK
PackageFile: ffpe_1.48.0.tgz
PackageFileSize: 298.7 <A href="http://en.wikipedia.org/wiki/KiB" target="_blank">KiB</A>