Package: fenr
Version: 1.2.1
Maintainer: Marek Gierlinski
MaintainerEmail: M.Gierlinski at dundee.ac.uk
git_url: https://git.bioconductor.org/packages/fenr
git_branch: RELEASE_3_19
git_last_commit: b13e272
git_last_commit_date: 2024-06-14 06:46:38 -0400 (Fri, 14 Jun 2024)