Package: fastreeR Version: 1.8.0 Maintainer: Anestis Gkanogiannis MaintainerEmail: anestis at gkanogiannis.com git_url: https://git.bioconductor.org/packages/fastreeR git_branch: RELEASE_3_19 git_last_commit: 6d4fbfb git_last_commit_date: 2024-04-30 11:41:06 -0400 (Tue, 30 Apr 2024)