Package: farms
Version: 1.56.0
Command: /Library/Frameworks/R.framework/Resources/bin/R CMD INSTALL farms
StartedAt: 2024-10-16 15:09:12 -0400 (Wed, 16 Oct 2024)
EndedAt: 2024-10-16 15:09:32 -0400 (Wed, 16 Oct 2024)
EllapsedTime: 20.1 seconds
RetCode: 0
Status: OK