Package: farms
Version: 1.56.0
Command: /Library/Frameworks/R.framework/Resources/bin/R CMD check --install=check:farms.install-out.txt --library=/Library/Frameworks/R.framework/Resources/library --no-vignettes --timings farms_1.56.0.tar.gz
StartedAt: 2024-10-17 05:13:20 -0400 (Thu, 17 Oct 2024)
EndedAt: 2024-10-17 05:14:36 -0400 (Thu, 17 Oct 2024)
EllapsedTime: 75.7 seconds
RetCode: 0
Status: OK
CheckDir: farms.Rcheck
Warnings: 0