Package: fabia
Version: 2.50.0
Maintainer: Andreas Mitterecker
MaintainerEmail: mitterecker at bioinf.jku.at
git_url: https://git.bioconductor.org/packages/fabia
git_branch: RELEASE_3_19
git_last_commit: 504ef17
git_last_commit_date: 2024-04-30 10:22:09 -0400 (Tue, 30 Apr 2024)