Package: exomePeak2
Version: 1.16.2
Maintainer: Zhen Wei
MaintainerEmail: zhen.wei10 at icloud.com
git_url: https://git.bioconductor.org/packages/exomePeak2
git_branch: RELEASE_3_19
git_last_commit: 236a855
git_last_commit_date: 2024-10-01 14:21:35 -0400 (Tue, 01 Oct 2024)