Package: esetVis
Version: 1.30.0
Maintainer: Laure Cougnaud
MaintainerEmail: laure.cougnaud at openanalytics.eu
git_url: https://git.bioconductor.org/packages/esetVis
git_branch: RELEASE_3_19
git_last_commit: 971468b
git_last_commit_date: 2024-04-30 10:51:49 -0400 (Tue, 30 Apr 2024)