Package: erccdashboard
Version: 1.38.0
Maintainer: Sarah Munro
MaintainerEmail: sarah.munro at gmail.com
git_url: https://git.bioconductor.org/packages/erccdashboard
git_branch: RELEASE_3_19
git_last_commit: 33257d1
git_last_commit_date: 2024-04-30 10:38:14 -0400 (Tue, 30 Apr 2024)