Package: epivizrChart Version: 1.26.0 Maintainer: Hector Corrada Bravo MaintainerEmail: hcorrada at gmail.com git_url: https://git.bioconductor.org/packages/epivizrChart git_branch: RELEASE_3_19 git_last_commit: 1ee77b0 git_last_commit_date: 2024-04-30 10:59:17 -0400 (Tue, 30 Apr 2024)