Package: epidecodeR
Version: 1.12.0
Command: /home/biocbuild/bbs-3.19-bioc/R/bin/R CMD INSTALL epidecodeR
StartedAt: 2024-10-16 16:44:13 -0400 (Wed, 16 Oct 2024)
EndedAt: 2024-10-16 16:44:46 -0400 (Wed, 16 Oct 2024)
EllapsedTime: 32.4 seconds
RetCode: 0
Status: OK