Package: epidecodeR
Version: 1.12.0
Command: /Library/Frameworks/R.framework/Resources/bin/R CMD build --keep-empty-dirs --no-resave-data epidecodeR
StartedAt: 2024-10-17 00:02:26 -0400 (Thu, 17 Oct 2024)
EndedAt: 2024-10-17 00:03:28 -0400 (Thu, 17 Oct 2024)
EllapsedTime: 61.4 seconds
RetCode: 0
Status: OK
PackageFile: epidecodeR_1.12.0.tar.gz
PackageFileSize: 2.067 <A href="http://en.wikipedia.org/wiki/MiB" target="_blank">MiB</A>