Package: epialleleR
Version: 1.12.0
Maintainer: Oleksii Nikolaienko
MaintainerEmail: oleksii.nikolaienko at gmail.com
git_url: https://git.bioconductor.org/packages/epialleleR
git_branch: RELEASE_3_19
git_last_commit: 69b8e8f
git_last_commit_date: 2024-04-30 11:34:28 -0400 (Tue, 30 Apr 2024)