Package: ensembldb
Version: 2.28.1
Maintainer: Johannes Rainer
MaintainerEmail: johannes.rainer at eurac.edu
git_url: https://git.bioconductor.org/packages/ensembldb
git_branch: RELEASE_3_19
git_last_commit: 32dfb29
git_last_commit_date: 2024-08-21 05:21:31 -0400 (Wed, 21 Aug 2024)