Package: enrichplot Version: 1.24.4 Maintainer: Guangchuang Yu MaintainerEmail: guangchuangyu at gmail.com git_url: https://git.bioconductor.org/packages/enrichplot git_branch: RELEASE_3_19 git_last_commit: ae44701 git_last_commit_date: 2024-08-25 21:21:06 -0400 (Sun, 25 Aug 2024)