Package: enrichViewNet
Version: 1.2.0
Command: /Library/Frameworks/R.framework/Resources/bin/R CMD build --keep-empty-dirs --no-resave-data enrichViewNet
StartedAt: 2024-06-09 16:34:11 -0400 (Sun, 09 Jun 2024)
EndedAt: 2024-06-09 16:35:16 -0400 (Sun, 09 Jun 2024)
EllapsedTime: 65.4 seconds
RetCode: 0
Status: OK
PackageFile: enrichViewNet_1.2.0.tar.gz
PackageFileSize: 4.473 <A href="http://en.wikipedia.org/wiki/MiB" target="_blank">MiB</A>