Package: enrichViewNet
Version: 1.2.0
Command: /home/biocbuild/R/R-beta-2024-04-15_r86425/bin/R CMD INSTALL enrichViewNet
StartedAt: 2024-05-08 20:54:02 -0000 (Wed, 08 May 2024)
EndedAt: 2024-05-08 20:54:36 -0000 (Wed, 08 May 2024)
EllapsedTime: 34.0 seconds
RetCode: 0
Status: OK