Package: enrichTF
Version: 1.20.0
Maintainer: Zheng Wei
MaintainerEmail: wzwz at stanford.edu
git_url: https://git.bioconductor.org/packages/enrichTF
git_branch: RELEASE_3_19
git_last_commit: 651a042
git_last_commit_date: 2024-04-30 11:14:37 -0400 (Tue, 30 Apr 2024)