Package: eisaR
Version: 1.16.0
Command: F:\biocbuild\bbs-3.19-bioc\R\bin\R.exe CMD check --no-multiarch --install=check:eisaR.install-out.txt --library=F:\biocbuild\bbs-3.19-bioc\R\library --no-vignettes --timings eisaR_1.16.0.tar.gz
StartedAt: 2024-06-27 01:19:58 -0400 (Thu, 27 Jun 2024)
EndedAt: 2024-06-27 01:24:46 -0400 (Thu, 27 Jun 2024)
EllapsedTime: 288.7 seconds
RetCode: 0
Status: OK
CheckDir: eisaR.Rcheck
Warnings: 0