Package: eisaR
Version: 1.16.0
Command: rm -rf eisaR.buildbin-libdir && mkdir eisaR.buildbin-libdir && F:\biocbuild\bbs-3.19-bioc\R\bin\R.exe CMD INSTALL --build --library=eisaR.buildbin-libdir eisaR_1.16.0.tar.gz
StartedAt: 2024-06-27 08:09:50 -0400 (Thu, 27 Jun 2024)
EndedAt: 2024-06-27 08:10:27 -0400 (Thu, 27 Jun 2024)
EllapsedTime: 37.1 seconds
RetCode: 0
Status: OK
PackageFile: eisaR_1.16.0.zip
PackageFileSize: 1.463 <A href="http://en.wikipedia.org/wiki/MiB" target="_blank">MiB</A>