Package: easylift
Version: 1.2.0
Maintainer: Abdullah Al Nahid
MaintainerEmail: abdnahid56 at gmail.com
git_url: https://git.bioconductor.org/packages/easylift
git_branch: RELEASE_3_19
git_last_commit: c54d78d
git_last_commit_date: 2024-04-30 11:51:24 -0400 (Tue, 30 Apr 2024)