Package: easyRNASeq
Version: 2.40.1
Maintainer: Nicolas Delhomme
MaintainerEmail: nicolas.delhomme at umu.se
git_url: https://git.bioconductor.org/packages/easyRNASeq
git_branch: RELEASE_3_19
git_last_commit: 37d3137
git_last_commit_date: 2024-08-07 09:43:28 -0400 (Wed, 07 Aug 2024)