Package: dupRadar
Version: 1.34.0
Command: /home/biocbuild/bbs-3.19-bioc/R/bin/R CMD INSTALL dupRadar
StartedAt: 2024-10-16 15:51:33 -0400 (Wed, 16 Oct 2024)
EndedAt: 2024-10-16 15:51:46 -0400 (Wed, 16 Oct 2024)
EllapsedTime: 13.3 seconds
RetCode: 0
Status: OK