Package: dupRadar
Version: 1.34.0
Command: /home/biocbuild/bbs-3.19-bioc/R/bin/R CMD check --install=check:dupRadar.install-out.txt --library=/home/biocbuild/bbs-3.19-bioc/R/site-library --timings dupRadar_1.34.0.tar.gz
StartedAt: 2024-10-17 00:00:48 -0400 (Thu, 17 Oct 2024)
EndedAt: 2024-10-17 00:01:58 -0400 (Thu, 17 Oct 2024)
EllapsedTime: 70.2 seconds
RetCode: 0
Status: OK
CheckDir: dupRadar.Rcheck
Warnings: 0