Package: dupRadar
Version: 1.34.0
Command: /Library/Frameworks/R.framework/Resources/bin/R CMD INSTALL dupRadar
StartedAt: 2024-10-16 15:09:32 -0400 (Wed, 16 Oct 2024)
EndedAt: 2024-10-16 15:09:57 -0400 (Wed, 16 Oct 2024)
EllapsedTime: 24.7 seconds
RetCode: 0
Status: OK