Package: dupRadar Version: 1.34.0 Maintainer: Sergi Sayols , Holger Klein MaintainerEmail: holger.klein at gmail.com git_url: https://git.bioconductor.org/packages/dupRadar git_branch: RELEASE_3_19 git_last_commit: 8dadc41 git_last_commit_date: 2024-04-30 10:45:49 -0400 (Tue, 30 Apr 2024)