Package: doubletrouble
Version: 1.4.4
Maintainer: Fabrício Almeida-Silva
MaintainerEmail: fabricio_almeidasilva at hotmail.com
git_url: https://git.bioconductor.org/packages/doubletrouble
git_branch: RELEASE_3_19
git_last_commit: 4e3a6b6
git_last_commit_date: 2024-10-07 09:54:11 -0400 (Mon, 07 Oct 2024)