Package: diffcoexp
Version: 1.24.0
Command: F:\biocbuild\bbs-3.19-bioc\R\bin\R.exe CMD INSTALL diffcoexp
StartedAt: 2024-06-26 16:35:59 -0400 (Wed, 26 Jun 2024)
EndedAt: 2024-06-26 16:36:40 -0400 (Wed, 26 Jun 2024)
EllapsedTime: 41.2 seconds
RetCode: 0
Status: OK