Package: diffcoexp
Version: 1.24.0
Command: F:\biocbuild\bbs-3.19-bioc\R\bin\R.exe CMD check --no-multiarch --install=check:diffcoexp.install-out.txt --library=F:\biocbuild\bbs-3.19-bioc\R\library --no-vignettes --timings diffcoexp_1.24.0.tar.gz
StartedAt: 2024-06-27 01:02:33 -0400 (Thu, 27 Jun 2024)
EndedAt: 2024-06-27 01:06:29 -0400 (Thu, 27 Jun 2024)
EllapsedTime: 236.6 seconds
RetCode: 0
Status: OK
CheckDir: diffcoexp.Rcheck
Warnings: 0