Package: diffcoexp
Version: 1.24.0
Command: /home/biocbuild/R/R-beta-2024-04-15_r86425/bin/R CMD INSTALL diffcoexp
StartedAt: 2024-05-08 20:52:35 -0000 (Wed, 08 May 2024)
EndedAt: 2024-05-08 20:53:13 -0000 (Wed, 08 May 2024)
EllapsedTime: 38.4 seconds
RetCode: 0
Status: OK