Package: diffcoexp
Version: 1.24.0
Command: /home/biocbuild/R/R-beta-2024-04-15_r86425/bin/R CMD build --keep-empty-dirs --no-resave-data diffcoexp
StartedAt: 2024-05-08 23:54:34 -0000 (Wed, 08 May 2024)
EndedAt: 2024-05-08 23:55:29 -0000 (Wed, 08 May 2024)
EllapsedTime: 55.1 seconds
RetCode: 0
Status: OK
PackageFile: diffcoexp_1.24.0.tar.gz
PackageFileSize: 286.3 <A href="http://en.wikipedia.org/wiki/KiB" target="_blank">KiB</A>