Package: destiny
Version: 3.18.0
Command: /home/biocbuild/bbs-3.19-bioc/R/bin/R CMD INSTALL destiny
StartedAt: 2024-10-16 16:32:56 -0400 (Wed, 16 Oct 2024)
EndedAt: 2024-10-16 16:33:43 -0400 (Wed, 16 Oct 2024)
EllapsedTime: 47.1 seconds
RetCode: 0
Status: OK