Package: destiny
Version: 3.18.0
Command: /home/biocbuild/bbs-3.19-bioc/R/bin/R CMD check --install=check:destiny.install-out.txt --library=/home/biocbuild/bbs-3.19-bioc/R/site-library --timings destiny_3.18.0.tar.gz
StartedAt: 2024-07-14 23:00:52 -0400 (Sun, 14 Jul 2024)
EndedAt: 2024-07-14 23:10:55 -0400 (Sun, 14 Jul 2024)
EllapsedTime: 603.1 seconds
RetCode: 0
Status: OK
CheckDir: destiny.Rcheck
Warnings: 0