Package: destiny
Version: 3.18.0
Command: /home/biocbuild/bbs-3.19-bioc/R/bin/R CMD build --keep-empty-dirs --no-resave-data destiny
StartedAt: 2024-10-16 18:11:57 -0400 (Wed, 16 Oct 2024)
EndedAt: 2024-10-16 18:51:57 -0400 (Wed, 16 Oct 2024)
EllapsedTime: 2400.0 seconds
RetCode: None
Status: TIMEOUT
PackageFile: None
PackageFileSize: NA