##############################################################################
##############################################################################
###
### Running command:
###
###   /home/biocbuild/bbs-3.19-bioc/R/bin/R CMD build --keep-empty-dirs --no-resave-data destiny
###
##############################################################################
##############################################################################


* checking for file ‘destiny/DESCRIPTION’ ... OK
* preparing ‘destiny’:
* checking DESCRIPTION meta-information ... OK
* cleaning src
* installing the package to build vignettes
* creating vignettes ...