Package: destiny
Version: 3.18.0
Command: /Library/Frameworks/R.framework/Resources/bin/R CMD INSTALL destiny
StartedAt: 2024-06-09 15:34:36 -0400 (Sun, 09 Jun 2024)
EndedAt: 2024-06-09 15:35:38 -0400 (Sun, 09 Jun 2024)
EllapsedTime: 61.9 seconds
RetCode: 0
Status: OK